BEGIN:VCALENDAR
VERSION:2.0
PRODID:-//195.26.5.2//NONSGML kigkonsult.se iCalcreator 2.26.9//
CALSCALE:GREGORIAN
METHOD:PUBLISH
X-FROM-URL:http://www.escrimeluxembourg.lu
X-WR-TIMEZONE:Europe/Luxembourg
BEGIN:VTIMEZONE
TZID:Europe/Luxembourg
X-LIC-LOCATION:Europe/Luxembourg
BEGIN:STANDARD
DTSTART:20191027T030000
TZOFFSETFROM:+0200
TZOFFSETTO:+0100
RDATE:20201025T030000
TZNAME:CET
END:STANDARD
BEGIN:DAYLIGHT
DTSTART:20200329T020000
TZOFFSETFROM:+0100
TZOFFSETTO:+0200
RDATE:20210328T020000
TZNAME:CEST
END:DAYLIGHT
END:VTIMEZONE
BEGIN:VEVENT
UID:ai1ec-774@www.escrimeluxembourg.lu
DTSTAMP:20200121T053216Z
CATEGORIES;LANGUAGE=fr-FR:Tournois internationaux\,Tournois régionaux
CONTACT:www.escrime-arlon.be
DESCRIPTION:<div class='c pg-1x0 pg-1y11 pg-1w9 pg-1h9'>\n<div class='t pg-
 1m0 pg-1xd pg-1ha pg-1y12 pg-1ff3 pg-1fs3 pg-1fc0 pg-1sc0 pg-1ls0 pg-1ws0'
 >Epée</div>\n<div class='t pg-1m0 pg-1xd pg-1ha pg-1y12 pg-1ff3 pg-1fs3 pg
 -1fc0 pg-1sc0 pg-1ls0 pg-1ws0'>Cadet</div>\n</div>\n<div class='c pg-1x10 
 pg-1y11 pg-1wb pg-1h9'>\n<div class='t pg-1m0 pg-1xa pg-1ha pg-1y12 pg-1ff
 3 pg-1fs3 pg-1fc0 pg-1sc0 pg-1ls0 pg-1ws0'>Masculin</div>\n</div>\n<div cl
 ass='c pg-1x11 pg-1y11 pg-1wc pg-1h9'>\n<div class='t pg-1m0 pg-1xd pg-1ha
  pg-1y12 pg-1ff3 pg-1fs3 pg-1fc0 pg-1sc0 pg-1ls2 pg-1ws0'>01<span class='p
 g-1ls0'>–</span>03</div>\n</div>\n<div class='c pg-1x9 pg-1y11 pg-1wd pg-1
 h9'>\n<div class='t pg-1m0 pg-1x12 pg-1ha pg-1y12 pg-1ff3 pg-1fs3 pg-1fc0 
 pg-1sc0 pg-1ls0 pg-1ws0'>5</div>\n</div>\n<div class='c pg-1xb pg-1y11 pg-
 1we pg-1h9'>\n<div class='t pg-1m0 pg-1x14 pg-1h3 pg-1y12 pg-1ff3 pg-1fs3 
 pg-1fc4 pg-1sc0 pg-1ls0 pg-1ws0'>Coupe Wallonie-Bruxelles <span class='pg-
 1ff1 pg-1fc0'>U17 </span></div>\n</div>\n<div class='c pg-1xc pg-1y11 pg-1
 wf pg-1h9'>\n<div class='t pg-1m0 pg-1x6 pg-1ha pg-1y12 pg-1ff3 pg-1fs3 pg
 -1fc0 pg-1sc0 pg-1ls0 pg-1ws0'>09 h 30</div>\n</div>\n<div class='c pg-1xe
  pg-1y11 pg-1w10 pg-1h9'>\n<div class='t pg-1m0 pg-1x12 pg-1ha pg-1y12 pg-
 1ff3 pg-1fs3 pg-1fc0 pg-1sc0 pg-1ls0 pg-1ws0'>09 h 45</div>\n</div>\n<div 
 class='c pg-1xf pg-1y11 pg-1w11 pg-1h9'>\n<div class='t pg-1m0 pg-1x6 pg-1
 ha pg-1y12 pg-1ff3 pg-1fs3 pg-1fc0 pg-1sc0 pg-1ls0 pg-1ws0'>10 h 00</div>
 \n</div>\n<div class='c pg-1x0 pg-1y13 pg-1w9 pg-1hb'></div>
DTSTART;VALUE=DATE:20171007
DTEND;VALUE=DATE:20171009
GEO:+49.683682;+5.794458
LOCATION:COMPLEXE SPORTIF DE L'HYDRION @ Rue de l'Hydrion 108\, 6700 Arlon\
 , Belgique
SEQUENCE:0
SUMMARY:Tournoi international d’Arlon
X-COST-TYPE:free
END:VEVENT
BEGIN:VEVENT
UID:ai1ec-778@www.escrimeluxembourg.lu
DTSTAMP:20200121T053216Z
CATEGORIES;LANGUAGE=fr-FR:Entraînements
CONTACT:
DESCRIPTION:<p>Pas d’entraînement pendant les vacances scolaires!</p>\n<p>N
 o training during school holidays</p>
DTSTART;VALUE=DATE:20171030
DTEND;VALUE=DATE:20171106
SEQUENCE:0
SUMMARY:Vacances scolaires
X-COST-TYPE:free
END:VEVENT
BEGIN:VEVENT
UID:ai1ec-807@www.escrimeluxembourg.lu
DTSTAMP:20200121T053216Z
CATEGORIES:
CONTACT:
DESCRIPTION:<p><a href='http://www.escrimeluxembourg.lu/evenement/11e-grand
 -prix-de-la-ville-de-louvain/gpsl11_francais_update/' rel='attachment wp-a
 tt-808'>GPSL11_Français_update</a></p>
DTSTART;VALUE=DATE:20181007
DTEND;VALUE=DATE:20181008
GEO:+50.855334;+4.703554
LOCATION:Centre sportif UCLL @ Hertogstraat 178\, 3001 Leuven\, Belgique
SEQUENCE:0
SUMMARY:11e Grand Prix de la Ville de Louvain
X-COST-TYPE:free
X-COST:15
END:VEVENT
BEGIN:VEVENT
UID:ai1ec-810@www.escrimeluxembourg.lu
DTSTAMP:20200121T053216Z
CATEGORIES;LANGUAGE=fr-FR:Tournois\,Tournois régionaux
CONTACT:Dieter Dörrenbächer \; +49 (0)6841 - 4615\; fechten-in-homburg@gmx.
 de
DESCRIPTION:<p><a href='http://www.escrimeluxembourg.lu/ausschreibung-50-ka
 rlsbergturnier/'>Ausschreibung 50. Karlsbergturnier</a></p>
DTSTART;VALUE=DATE:20181021
DTEND;VALUE=DATE:20181022
GEO:+49.31466;+7.341967
LOCATION:Sport- und Spielhalle der GS @ Virchowstraße\, 66424 Homburg\, All
 emagne
SEQUENCE:0
SUMMARY:50. Karlsbergturnier im Degen
X-COST-TYPE:free
X-COST:12€
END:VEVENT
BEGIN:VEVENT
UID:ai1ec-834@www.escrimeluxembourg.lu
DTSTAMP:20200121T053216Z
CATEGORIES;LANGUAGE=fr-FR:Tournois\,Tournois internationaux
CONTACT:
DESCRIPTION:
DTSTART;VALUE=DATE:20190111
DTEND;VALUE=DATE:20190114
SEQUENCE:0
SUMMARY:Tournoi cadet Bratislava
X-COST-TYPE:free
END:VEVENT
BEGIN:VEVENT
UID:ai1ec-826@www.escrimeluxembourg.lu
DTSTAMP:20200121T053216Z
CATEGORIES:
CONTACT:
DESCRIPTION:<div class='t pg-1m0 pg-1x9 pg-1h5 pg-1y22 pg-1ff2 pg-1fs2 pg-1
 fc0 pg-1sc0 pg-1ls0 pg-1ws0'>Epée poussins/pupilles mixtes: 9:00 9:15 9:30
  <span class='pg-1ff3'>CJL</span></div>\n<div class='t pg-1m0 pg-1x9 pg-1h
 5 pg-1y24 pg-1ff2 pg-1fs2 pg-1fc0 pg-1sc0 pg-1ls0 pg-1ws0'>Epée garçons mi
 nimes: 10:00 10:15 10:30 <span class='pg-1ff3'>CJL</span></div>\n<div clas
 s='t pg-1m0 pg-1x9 pg-1h5 pg-1y26 pg-1ff2 pg-1fs2 pg-1fc0 pg-1sc0 pg-1ls0 
 pg-1ws0'>Epée filles minimes: 12:00 12:15 12:30 <span class='pg-1ff3'>CJL<
 /span></div>
DTSTART;VALUE=DATE:20190112
DTEND;VALUE=DATE:20190113
GEO:+50.856551;+4.703122
LOCATION:Centre sportif UC Leuven-Limburg @ Hertogstraat 178\, 3001 Leuven\
 , Belgique
SEQUENCE:0
SUMMARY:2e Prix de la Jeunesse de la Ville de Louvain
X-COST-TYPE:free
X-COST:15
END:VEVENT
BEGIN:VEVENT
UID:ai1ec-755@www.escrimeluxembourg.lu
DTSTAMP:20200121T053216Z
CATEGORIES:
CONTACT:escrimeluxembourg@yahoo.fr
DESCRIPTION:<p>Début tournoi 10:00</p>\n<p>BBQ 12:00</p>
DTSTART;TZID=Europe/Luxembourg:20170624T100000
DTEND;TZID=Europe/Luxembourg:20170624T160000
GEO:+49.62202;+6.12139
LOCATION:CNE @ Rue Ermesinde\, 1469 Luxembourg
SEQUENCE:0
SUMMARY:BBQ de fin d’année
X-COST-TYPE:free
END:VEVENT
BEGIN:VEVENT
UID:ai1ec-770@www.escrimeluxembourg.lu
DTSTAMP:20200121T053216Z
CATEGORIES;LANGUAGE=fr-FR:Tournois\,Tournois internationaux\,Tournois régio
 naux
CONTACT:bessemans.dinant@escrime-ligue.be
DESCRIPTION:<p><a href='http://www.escrimeluxembourg.lu/wp-content/uploads/
 2017/09/23092017-grand-Prix-de-Wallonie-2017.doc-Dinant.doc'>23092017 gran
 d Prix de Wallonie 2017.doc Dinant</a></p>
DTSTART;TZID=Europe/Luxembourg:20170923T090000
LOCATION:Collège Notre-Dame de Bellevue\, Dinant
SEQUENCE:0
SUMMARY:Tournoi Dinant
X-COST-TYPE:free
X-INSTANT-EVENT:1
END:VEVENT
BEGIN:VEVENT
UID:ai1ec-776@www.escrimeluxembourg.lu
DTSTAMP:20200121T053216Z
CATEGORIES;LANGUAGE=fr-FR:Tournois\,Tournois internationaux
CONTACT:Isabelle Deville\; dtesud@icloud.com\; http://escrimesud.weebly.com
 /
DESCRIPTION:
DTSTART;TZID=Europe/Luxembourg:20171112T093000
DTEND;TZID=Europe/Luxembourg:20171112T180000
GEO:+49.62195;+6.121663
LOCATION:Centre National d'Escrime @ 90 Rue Ermesinde\, 1469 Luxembourg
SEQUENCE:0
SUMMARY:Tournoi international Senior EscrimeSud
X-COST-TYPE:external
X-COST:12
END:VEVENT
BEGIN:VEVENT
UID:ai1ec-788@www.escrimeluxembourg.lu
DTSTAMP:20200121T053216Z
CATEGORIES;LANGUAGE=fr-FR:Entraînements
CONTACT:
DESCRIPTION:
DTSTART;TZID=Europe/Luxembourg:20180109T170000
DTEND;TZID=Europe/Luxembourg:20180109T203000
SEQUENCE:0
SUMMARY:Reprise entraînements 2018
X-COST-TYPE:free
END:VEVENT
BEGIN:VEVENT
UID:ai1ec-801@www.escrimeluxembourg.lu
DTSTAMP:20200121T053216Z
CATEGORIES:
CONTACT:
DESCRIPTION:
DTSTART;TZID=Europe/Luxembourg:20180918T170000
DTEND;TZID=Europe/Luxembourg:20180918T203000
GEO:+49.602833;+6.140739
LOCATION:Ecole primaire de Bonnevoie @ 54 Rue du Verger\, 2665 Luxembourg
SEQUENCE:0
SUMMARY:Rentrée saison 2018-19
X-COST-TYPE:free
END:VEVENT
BEGIN:VEVENT
UID:ai1ec-832@www.escrimeluxembourg.lu
DTSTAMP:20200121T053216Z
CATEGORIES:
CONTACT:
DESCRIPTION:
DTSTART;TZID=Europe/Luxembourg:20181218T170000
DTEND;TZID=Europe/Luxembourg:20181218T200000
GEO:+49.602604;+6.139415
LOCATION:Salle de Sport @ Rue du Verger\, 2665 Luxembourg
SEQUENCE:0
SUMMARY:Fête de fin d’année
X-COST-TYPE:free
END:VEVENT
END:VCALENDAR
