BEGIN:VCALENDAR
VERSION:2.0
PRODID:-//195.26.5.2//NONSGML kigkonsult.se iCalcreator 2.20//
CALSCALE:GREGORIAN
METHOD:PUBLISH
X-FROM-URL:http://www.escrimeluxembourg.lu
X-WR-TIMEZONE:Europe/Luxembourg
BEGIN:VTIMEZONE
TZID:Europe/Luxembourg
X-LIC-LOCATION:Europe/Luxembourg
BEGIN:STANDARD
DTSTART:20181028T030000
TZOFFSETFROM:+0200
TZOFFSETTO:+0100
TZNAME:CET
END:STANDARD
BEGIN:DAYLIGHT
DTSTART:20180325T020000
TZOFFSETFROM:+0100
TZOFFSETTO:+0200
TZNAME:CEST
END:DAYLIGHT
END:VTIMEZONE
BEGIN:VEVENT
UID:ai1ec-632@www.escrimeluxembourg.lu
DTSTAMP:20180630T172144Z
CATEGORIES;LANGUAGE=fr-FR:Entraînements
CONTACT:
DESCRIPTION:Pas d’entraînement / No fencing
DTSTART;VALUE=DATE:20151101
DTEND;VALUE=DATE:20151109
SEQUENCE:0
SUMMARY:Vacances / Holiday
URL:http://www.escrimeluxembourg.lu/evenement/vacances-holiday-2/
X-ALT-DESC;FMTTYPE=text/html:<!DOCTYPE HTML PUBLIC '-//W3C//DTD HTML 3.2//E
 N'>\\n<HTML>\\n<HEAD>\\n<TITLE></TITLE>\\n</HEAD>\\n<BODY><p>Pas d’entraîn
 ement / No fencing</p>\n</BODY></HTML>
END:VEVENT
BEGIN:VEVENT
UID:ai1ec-633@www.escrimeluxembourg.lu
DTSTAMP:20180630T172144Z
CATEGORIES;LANGUAGE=fr-FR:Entraînements
CONTACT:
DESCRIPTION:Pas d’entraînement / No fencing
DTSTART;VALUE=DATE:20151213
DTEND;VALUE=DATE:20151229
SEQUENCE:0
SUMMARY:Vacances / Holiday
URL:http://www.escrimeluxembourg.lu/evenement/vacances-holiday-3/
X-ALT-DESC;FMTTYPE=text/html:<!DOCTYPE HTML PUBLIC '-//W3C//DTD HTML 3.2//E
 N'>\\n<HTML>\\n<HEAD>\\n<TITLE></TITLE>\\n</HEAD>\\n<BODY><p>Pas d’entraîn
 ement / No fencing</p>\n</BODY></HTML>
END:VEVENT
BEGIN:VEVENT
UID:ai1ec-634@www.escrimeluxembourg.lu
DTSTAMP:20180630T172144Z
CATEGORIES;LANGUAGE=fr-FR:Entraînements
CONTACT:
DESCRIPTION:Pas d’entraînement / No fencing
DTSTART;VALUE=DATE:20160206
DTEND;VALUE=DATE:20160215
SEQUENCE:0
SUMMARY:Vacances / Holiday
URL:http://www.escrimeluxembourg.lu/evenement/vacances-holiday-4/
X-ALT-DESC;FMTTYPE=text/html:<!DOCTYPE HTML PUBLIC '-//W3C//DTD HTML 3.2//E
 N'>\\n<HTML>\\n<HEAD>\\n<TITLE></TITLE>\\n</HEAD>\\n<BODY><p>Pas d’entraîn
 ement / No fencing</p>\n</BODY></HTML>
END:VEVENT
BEGIN:VEVENT
UID:ai1ec-670@www.escrimeluxembourg.lu
DTSTAMP:20180630T172144Z
CATEGORIES;LANGUAGE=fr-FR:Tournois\,Tournois internationaux\,Tournois natio
 naux\,Tournois régionaux
CONTACT:
DESCRIPTION:Tournoi international Epée pour les catégories Débutants\, Scol
 aires\, Minimes et Cadets
DTSTART;VALUE=DATE:20160312
DTEND;VALUE=DATE:20160313
GEO:+49.62195;+6.121663
LOCATION:Centre National d'Escrime @ 90 Rue Ermesinde\, 1469 Luxembourg\, L
 uxembourg
SEQUENCE:0
SUMMARY:Duel des Lionceaux 2016
URL:http://www.escrimeluxembourg.lu/evenement/duel-des-lionceaux-2016/
X-ALT-DESC;FMTTYPE=text/html:<!DOCTYPE HTML PUBLIC '-//W3C//DTD HTML 3.2//E
 N'>\\n<HTML>\\n<HEAD>\\n<TITLE></TITLE>\\n</HEAD>\\n<BODY><p>Tournoi inter
 national Epée pour les catégories Débutants\, Scolaires\, Minimes et Cadet
 s</p>\n</BODY></HTML>
X-TAGS;LANGUAGE=fr-FR:Lionceaux
END:VEVENT
BEGIN:VEVENT
UID:ai1ec-671@www.escrimeluxembourg.lu
DTSTAMP:20180630T172144Z
CATEGORIES;LANGUAGE=fr-FR:Tournois
CONTACT:
DESCRIPTION:Tournoi international d’Epée Hommes et Femmes
DTSTART;VALUE=DATE:20160313
DTEND;VALUE=DATE:20160314
GEO:+49.62195;+6.121663
LOCATION:Centre National d'Escrime @ 90 Rue Ermesinde\, 1469 Luxembourg\, L
 uxembourg
SEQUENCE:0
SUMMARY:Duel des Lions 2016
URL:http://www.escrimeluxembourg.lu/evenement/duel-des-lions-2016/
X-ALT-DESC;FMTTYPE=text/html:<!DOCTYPE HTML PUBLIC '-//W3C//DTD HTML 3.2//E
 N'>\\n<HTML>\\n<HEAD>\\n<TITLE></TITLE>\\n</HEAD>\\n<BODY><p>Tournoi inter
 national d’Epée Hommes et Femmes</p>\n</BODY></HTML>
X-TAGS;LANGUAGE=fr-FR:Lions
END:VEVENT
BEGIN:VEVENT
UID:ai1ec-636@www.escrimeluxembourg.lu
DTSTAMP:20180630T172144Z
CATEGORIES;LANGUAGE=fr-FR:Entraînements
CONTACT:
DESCRIPTION:Pas d’entraînement / No fencing
DTSTART;VALUE=DATE:20160514
DTEND;VALUE=DATE:20160523
SEQUENCE:0
SUMMARY:Vacances / Holiday
URL:http://www.escrimeluxembourg.lu/evenement/vacances-holiday-6/
X-ALT-DESC;FMTTYPE=text/html:<!DOCTYPE HTML PUBLIC '-//W3C//DTD HTML 3.2//E
 N'>\\n<HTML>\\n<HEAD>\\n<TITLE></TITLE>\\n</HEAD>\\n<BODY><p>Pas d’entraîn
 ement / No fencing</p>\n</BODY></HTML>
END:VEVENT
BEGIN:VEVENT
UID:ai1ec-774@www.escrimeluxembourg.lu
DTSTAMP:20180630T172144Z
CATEGORIES;LANGUAGE=fr-FR:Tournois internationaux\,Tournois régionaux
CONTACT:www.escrime-arlon.be
DESCRIPTION:Epée\nCadet\n\n\nMasculin\n\n\n01–03\n\n\n5\n\n\nCoupe Wallonie
 -Bruxelles U17 \n\n\n09 h 30\n\n\n09 h 45\n\n\n10 h 00
DTSTART;VALUE=DATE:20171007
DTEND;VALUE=DATE:20171009
GEO:+49.683682;+5.794458
LOCATION:COMPLEXE SPORTIF DE L'HYDRION @ Rue de l'Hydrion 108\, 6700 Arlon\
 , Belgique
SEQUENCE:0
SUMMARY:Tournoi international d’Arlon
URL:http://www.escrimeluxembourg.lu/evenement/tournoi-international-descrim
 e-darlon/
X-COST-TYPE:free
X-ALT-DESC;FMTTYPE=text/html:<!DOCTYPE HTML PUBLIC '-//W3C//DTD HTML 3.2//E
 N'>\\n<HTML>\\n<HEAD>\\n<TITLE></TITLE>\\n</HEAD>\\n<BODY><div class='c pg
 -1x0 pg-1y11 pg-1w9 pg-1h9'>\n<div class='t pg-1m0 pg-1xd pg-1ha pg-1y12 p
 g-1ff3 pg-1fs3 pg-1fc0 pg-1sc0 pg-1ls0 pg-1ws0'>Epée</div>\n<div class='t 
 pg-1m0 pg-1xd pg-1ha pg-1y12 pg-1ff3 pg-1fs3 pg-1fc0 pg-1sc0 pg-1ls0 pg-1w
 s0'>Cadet</div>\n</div>\n<div class='c pg-1x10 pg-1y11 pg-1wb pg-1h9'>\n<d
 iv class='t pg-1m0 pg-1xa pg-1ha pg-1y12 pg-1ff3 pg-1fs3 pg-1fc0 pg-1sc0 p
 g-1ls0 pg-1ws0'>Masculin</div>\n</div>\n<div class='c pg-1x11 pg-1y11 pg-1
 wc pg-1h9'>\n<div class='t pg-1m0 pg-1xd pg-1ha pg-1y12 pg-1ff3 pg-1fs3 pg
 -1fc0 pg-1sc0 pg-1ls2 pg-1ws0'>01<span class='pg-1ls0'>–</span>03</div>\n<
 /div>\n<div class='c pg-1x9 pg-1y11 pg-1wd pg-1h9'>\n<div class='t pg-1m0 
 pg-1x12 pg-1ha pg-1y12 pg-1ff3 pg-1fs3 pg-1fc0 pg-1sc0 pg-1ls0 pg-1ws0'>5<
 /div>\n</div>\n<div class='c pg-1xb pg-1y11 pg-1we pg-1h9'>\n<div class='t
  pg-1m0 pg-1x14 pg-1h3 pg-1y12 pg-1ff3 pg-1fs3 pg-1fc4 pg-1sc0 pg-1ls0 pg-
 1ws0'>Coupe Wallonie-Bruxelles <span class='pg-1ff1 pg-1fc0'>U17 </span></
 div>\n</div>\n<div class='c pg-1xc pg-1y11 pg-1wf pg-1h9'>\n<div class='t 
 pg-1m0 pg-1x6 pg-1ha pg-1y12 pg-1ff3 pg-1fs3 pg-1fc0 pg-1sc0 pg-1ls0 pg-1w
 s0'>09 h 30</div>\n</div>\n<div class='c pg-1xe pg-1y11 pg-1w10 pg-1h9'>\n
 <div class='t pg-1m0 pg-1x12 pg-1ha pg-1y12 pg-1ff3 pg-1fs3 pg-1fc0 pg-1sc
 0 pg-1ls0 pg-1ws0'>09 h 45</div>\n</div>\n<div class='c pg-1xf pg-1y11 pg-
 1w11 pg-1h9'>\n<div class='t pg-1m0 pg-1x6 pg-1ha pg-1y12 pg-1ff3 pg-1fs3 
 pg-1fc0 pg-1sc0 pg-1ls0 pg-1ws0'>10 h 00</div>\n</div>\n<div class='c pg-1
 x0 pg-1y13 pg-1w9 pg-1hb'></div>\n</BODY></HTML>
END:VEVENT
BEGIN:VEVENT
UID:ai1ec-778@www.escrimeluxembourg.lu
DTSTAMP:20180630T172144Z
CATEGORIES;LANGUAGE=fr-FR:Entraînements
CONTACT:
DESCRIPTION:Pas d’entraînement pendant les vacances scolaires!\nNo training
  during school holidays
DTSTART;VALUE=DATE:20171030
DTEND;VALUE=DATE:20171106
SEQUENCE:0
SUMMARY:Vacances scolaires
URL:http://www.escrimeluxembourg.lu/evenement/vacances-scolaires/
X-COST-TYPE:free
X-ALT-DESC;FMTTYPE=text/html:<!DOCTYPE HTML PUBLIC '-//W3C//DTD HTML 3.2//E
 N'>\\n<HTML>\\n<HEAD>\\n<TITLE></TITLE>\\n</HEAD>\\n<BODY><p>Pas d’entraîn
 ement pendant les vacances scolaires!</p>\n<p>No training during school ho
 lidays</p>\n</BODY></HTML>
END:VEVENT
BEGIN:VEVENT
UID:ai1ec-770@www.escrimeluxembourg.lu
DTSTAMP:20180630T172144Z
CATEGORIES;LANGUAGE=fr-FR:Tournois\,Tournois internationaux\,Tournois régio
 naux
CONTACT:bessemans.dinant@escrime-ligue.be
DESCRIPTION:23092017 grand Prix de Wallonie 2017.doc Dinant
DTSTART;TZID=Europe/Luxembourg:20170923T090000
LOCATION:Collège Notre-Dame de Bellevue\, Dinant
SEQUENCE:0
SUMMARY:Tournoi Dinant
URL:http://www.escrimeluxembourg.lu/evenement/770/
X-COST-TYPE:free
X-ALT-DESC;FMTTYPE=text/html:<!DOCTYPE HTML PUBLIC '-//W3C//DTD HTML 3.2//E
 N'>\\n<HTML>\\n<HEAD>\\n<TITLE></TITLE>\\n</HEAD>\\n<BODY><p><a href='http
 ://www.escrimeluxembourg.lu/wp-content/uploads/2017/09/23092017-grand-Prix
 -de-Wallonie-2017.doc-Dinant.doc'>23092017 grand Prix de Wallonie 2017.doc
  Dinant</a></p>\n</BODY></HTML>
X-INSTANT-EVENT:1
END:VEVENT
BEGIN:VEVENT
UID:ai1ec-776@www.escrimeluxembourg.lu
DTSTAMP:20180630T172144Z
CATEGORIES;LANGUAGE=fr-FR:Tournois\,Tournois internationaux
CONTACT:Isabelle Deville\; dtesud@icloud.com\; http://escrimesud.weebly.com
 /
DESCRIPTION:
DTSTART;TZID=Europe/Luxembourg:20171112T093000
DTEND;TZID=Europe/Luxembourg:20171112T180000
GEO:+49.62195;+6.121663
LOCATION:Centre National d'Escrime @ 90 Rue Ermesinde\, 1469 Luxembourg
SEQUENCE:0
SUMMARY:Tournoi international Senior EscrimeSud
URL:http://www.escrimeluxembourg.lu/evenement/tournoi-international-senior-
 escrimesud/
X-COST-TYPE:external
X-COST:12
END:VEVENT
BEGIN:VEVENT
UID:ai1ec-788@www.escrimeluxembourg.lu
DTSTAMP:20180630T172144Z
CATEGORIES;LANGUAGE=fr-FR:Entraînements
CONTACT:
DESCRIPTION:
DTSTART;TZID=Europe/Luxembourg:20180109T170000
DTEND;TZID=Europe/Luxembourg:20180109T203000
SEQUENCE:0
SUMMARY:Reprise entraînements 2018
URL:http://www.escrimeluxembourg.lu/evenement/reprise-entrainements-2018/
X-COST-TYPE:free
END:VEVENT
END:VCALENDAR
